BEGIN:VCALENDAR
VERSION:2.0
PRODID:-//Donne 4.0 - ECPv6.15.20//NONSGML v1.0//EN
CALSCALE:GREGORIAN
METHOD:PUBLISH
X-WR-CALNAME:Donne 4.0
X-ORIGINAL-URL:https://donne4.it
X-WR-CALDESC:Eventi per Donne 4.0
REFRESH-INTERVAL;VALUE=DURATION:PT1H
X-Robots-Tag:noindex
X-PUBLISHED-TTL:PT1H
BEGIN:VTIMEZONE
TZID:Europe/Rome
BEGIN:DAYLIGHT
TZOFFSETFROM:+0100
TZOFFSETTO:+0200
TZNAME:CEST
DTSTART:20250330T010000
END:DAYLIGHT
BEGIN:STANDARD
TZOFFSETFROM:+0200
TZOFFSETTO:+0100
TZNAME:CET
DTSTART:20251026T010000
END:STANDARD
BEGIN:DAYLIGHT
TZOFFSETFROM:+0100
TZOFFSETTO:+0200
TZNAME:CEST
DTSTART:20260329T010000
END:DAYLIGHT
BEGIN:STANDARD
TZOFFSETFROM:+0200
TZOFFSETTO:+0100
TZNAME:CET
DTSTART:20261025T010000
END:STANDARD
BEGIN:DAYLIGHT
TZOFFSETFROM:+0100
TZOFFSETTO:+0200
TZNAME:CEST
DTSTART:20270328T010000
END:DAYLIGHT
BEGIN:STANDARD
TZOFFSETFROM:+0200
TZOFFSETTO:+0100
TZNAME:CET
DTSTART:20271031T010000
END:STANDARD
END:VTIMEZONE
BEGIN:VEVENT
DTSTART;VALUE=DATE:20260510
DTEND;VALUE=DATE:20260513
DTSTAMP:20260420T092653
CREATED:20260330T151019Z
LAST-MODIFIED:20260401T142448Z
UID:21059-1778371200-1778630399@donne4.it
SUMMARY:Richmond Cyber Resilience Forum
DESCRIPTION:L’edizione Spring di 𝐑𝐢𝐜𝐡𝐦𝐨𝐧𝐝 𝐂𝐲𝐛𝐞𝐫 𝐑𝐞𝐬𝐢𝐥𝐢𝐞𝐧𝐜𝐞 𝐅𝐨𝐫𝐮𝐦 è in programma a Rimini dal 10 al 12 Maggio 2026 con ospite Valentina Ravenni\, Ambassador Donne 4.0. \nLa CyberResilience è oggi una capacità strategica fondamentale per le organizzazioni\, chiamate a prevenire\, affrontare e superare eventi cyber sempre più complessi\, garantendo continuità operativa\, protezione dei dati e affidabilità dei processi. \nIn questo scenario\, un ruolo centrale è assunto dall’intelligenza artificiale\, che rappresenta al tempo stesso un potente strumento di supporto alla prevenzione\, al monitoraggio e alla risposta agli incidenti\, ma anche un fattore di trasformazione del rischio\, con nuove vulnerabilità\, superfici di attacco e implicazioni di governance. \nÈ fondamentale\, quindi\, sviluppare una lettura concreta e attuale del rapporto tra sicurezza\, innovazione e resilienza\, attraverso un approccio integrato che unisca tecnologia\, competenze\, consapevolezza e visione strategica. \nLa crescente interconnessione tra sistemi\, persone e supplychain rende infatti necessario rafforzare non solo le difese tecnologiche\, ma anche la capacità organizzativa di anticipare\, gestire e recuperare rapidamente gli impatti di un incidente cyber. \nIn questa prospettiva\, la resilienza diventa un elemento chiave per sostenere la competitività\, la fiducia e la solidità delle imprese nel tempo. \nScopri di più clicca qui
URL:https://donne4.it/eventi/richmond-cyber-resilience-forum/
CATEGORIES:In presenza
ATTACH;FMTTYPE=image/png:https://donne4.it/wp-content/uploads/2026/03/1.png
END:VEVENT
BEGIN:VEVENT
DTSTART;TZID=Europe/Rome:20260511T173000
DTEND;TZID=Europe/Rome:20260511T193000
DTSTAMP:20260420T092653
CREATED:20260415T165224Z
LAST-MODIFIED:20260415T165900Z
UID:21111-1778520600-1778527800@donne4.it
SUMMARY:Donne nella Sanità tra innovazione\, dati e nuovi modelli di cura
DESCRIPTION:La tecnologia sta ridefinendo il ruolo delle donne nella sanità\, sia come pazienti\, che come caregiver o come professioniste del settore. Questa è la prospettiva secondo cui analizzeremo i bisogni emergenti\, i dati di genere ancora mancanti e le soluzioni che possono guidare un cambiamento sistemico. \nL’11 maggio dalle ore 17:30 alle 19:30 si terrà l’evento organizzato da Donne 4.0 “Donne nella Sanità tra innovazione\, dati e nuovi modelli di cura” presso gli Uffici AWS in viale Montegrappa 3/5 a Milano. \nProgramma: \n7.00 Ingresso e registrazione \n17:30 Welcome e introduzione: Rosanna Serra\, Coordinatrice Commissione Sanità Digitale Donne 4.0\, Giulia di Lernia\, Senior Marketing Representative Italy\, AWS Marketing Integrated DC – Women@AWS Member \n17:45 Tavola Rotonda – La tecnologia a supporto di pazienti e caregiver: Anna Maria Mancuso\, Presidente Salute Donna Onlus\, Laura Bignami\, Senatrice prima firmataria emendamento caregiver\, \nMichela Conti\, Co-founder & President @Ugo\, Giulia Marchese\, Co-founder & CTO @Geen \nModerano: Silvia Pinciroli e Sabrina Scarpati\, Commissione Sanità Digitale Donne 4.0 \nAl termine sessione Q&A \n18:45 Key Note Speech – Operatrici nella sanità: competenze digitali\, leadership e nuove opportunità professionali: Francesca Puggioni\, Donne Leader In Sanità\, CapoSezione Clinico Organizzativo ImmunoCenter Humanitas Research Hospital e Adjunct Professor Post-graduate Residency Program of Allergy and Clinical Immunology Humanitas University \n19:05 Closing: Juli Hysenbelli\, Global Lead Connected Care\, Digital Surgery AWS Healthcare & LiveScience/ Women@AWS Member\, Patrizia Palazzi\, Vice Presidente Donne 4.0 \n19:30 Aperitivo di Networking \nEvento gratuito previa iscrizione qui \nVisualizza la locandina qui
URL:https://donne4.it/eventi/donne-nella-sanita-tra-innovazione-dati-e-nuovi-modelli-di-cura/
CATEGORIES:In presenza
ATTACH;FMTTYPE=image/png:https://donne4.it/wp-content/uploads/2026/04/Copertine-eventi-sito-2.png
END:VEVENT
BEGIN:VEVENT
DTSTART;TZID=Europe/Rome:20260519T124500
DTEND;TZID=Europe/Rome:20260519T133000
DTSTAMP:20260420T092653
CREATED:20260419T191419Z
LAST-MODIFIED:20260419T191419Z
UID:21128-1779194700-1779197400@donne4.it
SUMMARY:AI Week
DESCRIPTION:Donne 4.0 è partner dell’AI Week che si svolgerà il 19-20 maggio 2026 a Milano\, Fiera Rho. La nostra presidente Roberta Russo sarà sul palco di AI WEEK con uno speech dedicato al futuro delle donne nell’era dell’Intelligenza Artificiale il 19 maggio 2026 alle ore 12.45. \n\n\nAI WEEK riunisce a Milano oltre 700 speaker internazionali su 10 palchi\, tra manager\, imprenditori\, innovatori e leader visionari pronti a esplorare tutto il potenziale dell’AI per rendere ogni business più competitivo e sostenibile. \nUn’esperienza immersiva dove formazione d’alto livello e networking si incontrano — ed è proprio lì che vogliamo portare la voce di Donne 4.0. \nSe sei una professionista\, imprenditrice o manager e vuoi essere al centro della rivoluzione digitale\, questa è l’occasione da non perdere. \nRiserva il tuo pass qui \n 
URL:https://donne4.it/eventi/ai-week/
CATEGORIES:In presenza
ATTACH;FMTTYPE=image/png:https://donne4.it/wp-content/uploads/2026/04/Copertine-eventi-sito-3.png
END:VEVENT
END:VCALENDAR