BEGIN:VCALENDAR
VERSION:2.0
PRODID:-//Donne 4.0 - ECPv6.15.20//NONSGML v1.0//EN
CALSCALE:GREGORIAN
METHOD:PUBLISH
X-WR-CALNAME:Donne 4.0
X-ORIGINAL-URL:https://donne4.it
X-WR-CALDESC:Eventi per Donne 4.0
REFRESH-INTERVAL;VALUE=DURATION:PT1H
X-Robots-Tag:noindex
X-PUBLISHED-TTL:PT1H
BEGIN:VTIMEZONE
TZID:Europe/Rome
BEGIN:DAYLIGHT
TZOFFSETFROM:+0100
TZOFFSETTO:+0200
TZNAME:CEST
DTSTART:20230326T010000
END:DAYLIGHT
BEGIN:STANDARD
TZOFFSETFROM:+0200
TZOFFSETTO:+0100
TZNAME:CET
DTSTART:20231029T010000
END:STANDARD
BEGIN:DAYLIGHT
TZOFFSETFROM:+0100
TZOFFSETTO:+0200
TZNAME:CEST
DTSTART:20240331T010000
END:DAYLIGHT
BEGIN:STANDARD
TZOFFSETFROM:+0200
TZOFFSETTO:+0100
TZNAME:CET
DTSTART:20241027T010000
END:STANDARD
BEGIN:DAYLIGHT
TZOFFSETFROM:+0100
TZOFFSETTO:+0200
TZNAME:CEST
DTSTART:20250330T010000
END:DAYLIGHT
BEGIN:STANDARD
TZOFFSETFROM:+0200
TZOFFSETTO:+0100
TZNAME:CET
DTSTART:20251026T010000
END:STANDARD
END:VTIMEZONE
BEGIN:VEVENT
DTSTART;TZID=Europe/Rome:20240423T120000
DTEND;TZID=Europe/Rome:20240423T130000
DTSTAMP:20260422T115426
CREATED:20240403T084914Z
LAST-MODIFIED:20240408T112158Z
UID:18210-1713873600-1713877200@donne4.it
SUMMARY:Lancio AIxGIRLS - Terza edizione del Summer Tech Camp al femminile
DESCRIPTION:ECCOCI ALLA TANTO ATTESA 𝐓𝐄𝐑𝐙𝐀 𝐄𝐃𝐈𝐙𝐈𝐎𝐍𝐄 DI 𝐀𝐈𝐱𝐆𝐈𝐑𝐋𝐒: il 𝐒𝐮𝐦𝐦𝐞𝐫 𝐓𝐞𝐜𝐡 𝐂𝐚𝐦𝐩 al femminile rivolto alle studentesse che stanno concludendo la IV superiore.\n\n\n \n\n\nUn programma focalizzato su AI e data science ti darà l’opportunità di prendere parte a un interessante programma di studio e ti offrirà le competenze necessarie per essere parte attiva del cambiamento e superare i limiti del gender gap.\n\n\n \n\n\nIl camp si svolgerà dal 𝟐𝟐 al 𝟐𝟔 𝐋𝐮𝐠𝐥𝐢𝐨 𝟐𝟎𝟐𝟒 a 𝐕𝐨𝐥𝐭𝐞𝐫𝐫𝐚\, presso 𝐒𝐈𝐀𝐅 – 𝐒𝐜𝐮𝐨𝐥𝐚 𝐈𝐧𝐭𝐞𝐫𝐧𝐚𝐳𝐢𝐨𝐧𝐚𝐥𝐞 𝐝𝐢 𝐀𝐥𝐭𝐚 𝐅𝐨𝐫𝐦𝐚𝐳𝐢𝐨𝐧𝐞\n\n\n \n\n\nTi aspettiamo online su Facebook\, Linkedin e YouTube il 𝟐𝟑 𝐚𝐩𝐫𝐢𝐥𝐞 𝐚𝐥𝐥𝐞 𝐨𝐫𝐞 𝟏𝟐.𝟎𝟎 per la presentazione del progetto e per le modalità di partecipazione. \n\n\n \n\n\nEcco i link alla diretta del webinar:\n\n\nFacebook: https://fb.me/e/52GBpYQgO\nLinkedin: https://www.linkedin.com/events/lancioterzaedizioneaixgirls7181203965194240000/theater/\nYoutube: https://www.youtube.com/live/mGCIMiN4mfs?si=wTNF8pZkcb3A2ujM\n\n\n\nPer tutte le informazioni\, vai al sito di AIxGIRLS\n\n 
URL:https://donne4.it/eventi/lancio-aixgirls-terza-edizione-del-summer-tech-camp-al-femminile/
CATEGORIES:Live streaming
ATTACH;FMTTYPE=image/jpeg:https://donne4.it/wp-content/uploads/2024/04/Summer-Tech-Camp-7.jpg
ORGANIZER;CN="Associazione Donne 4.0":MAILTO:comunicazione@donne4.it
END:VEVENT
END:VCALENDAR