BEGIN:VCALENDAR
VERSION:2.0
PRODID:-//Donne 4.0 - ECPv6.15.20//NONSGML v1.0//EN
CALSCALE:GREGORIAN
METHOD:PUBLISH
X-ORIGINAL-URL:https://donne4.it
X-WR-CALDESC:Eventi per Donne 4.0
REFRESH-INTERVAL;VALUE=DURATION:PT1H
X-Robots-Tag:noindex
X-PUBLISHED-TTL:PT1H
BEGIN:VTIMEZONE
TZID:Europe/Rome
BEGIN:DAYLIGHT
TZOFFSETFROM:+0100
TZOFFSETTO:+0200
TZNAME:CEST
DTSTART:20240331T010000
END:DAYLIGHT
BEGIN:STANDARD
TZOFFSETFROM:+0200
TZOFFSETTO:+0100
TZNAME:CET
DTSTART:20241027T010000
END:STANDARD
BEGIN:DAYLIGHT
TZOFFSETFROM:+0100
TZOFFSETTO:+0200
TZNAME:CEST
DTSTART:20250330T010000
END:DAYLIGHT
BEGIN:STANDARD
TZOFFSETFROM:+0200
TZOFFSETTO:+0100
TZNAME:CET
DTSTART:20251026T010000
END:STANDARD
BEGIN:DAYLIGHT
TZOFFSETFROM:+0100
TZOFFSETTO:+0200
TZNAME:CEST
DTSTART:20260329T010000
END:DAYLIGHT
BEGIN:STANDARD
TZOFFSETFROM:+0200
TZOFFSETTO:+0100
TZNAME:CET
DTSTART:20261025T010000
END:STANDARD
END:VTIMEZONE
BEGIN:VEVENT
DTSTART;TZID=Europe/Rome:20250129T170000
DTEND;TZID=Europe/Rome:20250129T183000
DTSTAMP:20260424T095904
CREATED:20241220T153159Z
LAST-MODIFIED:20241220T153159Z
UID:18899-1738170000-1738175400@donne4.it
SUMMARY:Il contributo delle Donne allo sviluppo dell’IA
DESCRIPTION:La nostra Presidente Roberta Russo parteciperà come relatrice al webinar online Il contributo delle Donne allo sviluppo dell’IA il 29 Gennaio 2025 alle ore 17:00\, nell’ambito degli incontri Value@Work\, organizzato dall’Istituto di Studi Superiori sulla Donna (APRA) nell’ambito del progetto “Value@Work. La Persona al centro” \nL’Intelligenza Artificiale non è solo una tecnologia\, è una rivoluzione\, e molte donne ne sono le artefici. \nIl contributo delle Donne allo sviluppo dell’intelligenza artificiale (IA) è stato fondamentale e continua a plasmare un settore che spesso è percepito come dominato da figure maschili. Tuttavia\, molte donne hanno avuto ruoli pionieristici e hanno dato apporti essenziali alla ricerca\, allo sviluppo tecnologico e all’applicazione dell’IA in numerosi campi. \nIl Value@Work Open Talks Il contributo delle donne allo sviluppo dell’IA\, mira a mettere in luce il contributo femminile nel campo dell’Intelligenza Artificiale\, affrontando le sfide\, le opportunità e l’impatto del loro lavoro sul mondo digitale. \nAl webinar\, primo appuntamento 2025 del ciclo di incontri Value@Work\, interverranno\, oltre alla nostra Presidente: Anita Cadavid\, Direttrice Istituto di Studi Superiori sulla Donna (APRA)\, Laura Benedetta D’Ambra\, Sales Executive on Modern Work for Enterprice Customers\, Microsoft Italia\, Ilaria Ricci\, Comitato Scientifico\, Fondazione Italia Digitale. Modera l’incontro Adele Ercolano\, Coordinatrice Area Culturale\, Istituto di Studi Superiori sulla Donna (APRA). \nIscrizione gratuita qui\n  \n         \n 
URL:https://donne4.it/eventi/il-contributo-delle-donne-allo-sviluppo-dellia/
CATEGORIES:Live streaming
ATTACH;FMTTYPE=image/jpeg:https://donne4.it/wp-content/uploads/2024/12/Slide-Roberta-Russo.jpg
END:VEVENT
END:VCALENDAR