BEGIN:VCALENDAR
VERSION:2.0
PRODID:-//Donne 4.0 - ECPv6.15.20//NONSGML v1.0//EN
CALSCALE:GREGORIAN
METHOD:PUBLISH
X-WR-CALNAME:Donne 4.0
X-ORIGINAL-URL:https://donne4.it
X-WR-CALDESC:Eventi per Donne 4.0
REFRESH-INTERVAL;VALUE=DURATION:PT1H
X-Robots-Tag:noindex
X-PUBLISHED-TTL:PT1H
BEGIN:VTIMEZONE
TZID:Europe/Rome
BEGIN:DAYLIGHT
TZOFFSETFROM:+0100
TZOFFSETTO:+0200
TZNAME:CEST
DTSTART:20240331T010000
END:DAYLIGHT
BEGIN:STANDARD
TZOFFSETFROM:+0200
TZOFFSETTO:+0100
TZNAME:CET
DTSTART:20241027T010000
END:STANDARD
BEGIN:DAYLIGHT
TZOFFSETFROM:+0100
TZOFFSETTO:+0200
TZNAME:CEST
DTSTART:20250330T010000
END:DAYLIGHT
BEGIN:STANDARD
TZOFFSETFROM:+0200
TZOFFSETTO:+0100
TZNAME:CET
DTSTART:20251026T010000
END:STANDARD
BEGIN:DAYLIGHT
TZOFFSETFROM:+0100
TZOFFSETTO:+0200
TZNAME:CEST
DTSTART:20260329T010000
END:DAYLIGHT
BEGIN:STANDARD
TZOFFSETFROM:+0200
TZOFFSETTO:+0100
TZNAME:CET
DTSTART:20261025T010000
END:STANDARD
END:VTIMEZONE
BEGIN:VEVENT
DTSTART;TZID=Europe/Rome:20250611T140000
DTEND;TZID=Europe/Rome:20250611T190000
DTSTAMP:20260422T190006
CREATED:20250530T132403Z
LAST-MODIFIED:20251120T212558Z
UID:19594-1749650400-1749668400@donne4.it
SUMMARY:Metaverse Generation Summit
DESCRIPTION:Il futuro si incontra a Milano. Il prossimo 11 giugno\, il Teatro Alcione\, ex Maison Versace\, ospiterà il Metaverse Generation Summit\, evento pensato per chi vuole capire e attivare le potenzialità dell’extended reality nelle aziende. L’obiettivo è integrare tecnologie come Metaverso\, AR\, MR\, XR e Intelligenza artificiale nei processi aziendali\, con una visione strategica e orientata al business e al risultato. \nIdeato e promosso da XMetaReal\, azienda attiva nella progettazione e sviluppo di soluzioni custom di extended reality integrate con Ai per aziende corporate\, il summit si propone di accelerare il dialogo tra pubblico e privato e mostrare come queste tecnologie stiano già riscrivendo la comunicazione\, il marketing\, la customer experience e persino i processi industriali. \nLa nostra Presidente Roberta Russo parteciperà in qualità di Focus Voice. \nIscrizione gratuita qui
URL:https://donne4.it/eventi/metaverse-generation-summit/
CATEGORIES:In presenza
ATTACH;FMTTYPE=image/jpeg:https://donne4.it/wp-content/uploads/2025/05/Roberta_Russo-1.jpg
END:VEVENT
END:VCALENDAR