BEGIN:VCALENDAR
VERSION:2.0
PRODID:-//Donne 4.0 - ECPv6.15.20//NONSGML v1.0//EN
CALSCALE:GREGORIAN
METHOD:PUBLISH
X-WR-CALNAME:Donne 4.0
X-ORIGINAL-URL:https://donne4.it
X-WR-CALDESC:Eventi per Donne 4.0
REFRESH-INTERVAL;VALUE=DURATION:PT1H
X-Robots-Tag:noindex
X-PUBLISHED-TTL:PT1H
BEGIN:VTIMEZONE
TZID:Europe/Rome
BEGIN:DAYLIGHT
TZOFFSETFROM:+0100
TZOFFSETTO:+0200
TZNAME:CEST
DTSTART:20230326T010000
END:DAYLIGHT
BEGIN:STANDARD
TZOFFSETFROM:+0200
TZOFFSETTO:+0100
TZNAME:CET
DTSTART:20231029T010000
END:STANDARD
BEGIN:DAYLIGHT
TZOFFSETFROM:+0100
TZOFFSETTO:+0200
TZNAME:CEST
DTSTART:20240331T010000
END:DAYLIGHT
BEGIN:STANDARD
TZOFFSETFROM:+0200
TZOFFSETTO:+0100
TZNAME:CET
DTSTART:20241027T010000
END:STANDARD
BEGIN:DAYLIGHT
TZOFFSETFROM:+0100
TZOFFSETTO:+0200
TZNAME:CEST
DTSTART:20250330T010000
END:DAYLIGHT
BEGIN:STANDARD
TZOFFSETFROM:+0200
TZOFFSETTO:+0100
TZNAME:CET
DTSTART:20251026T010000
END:STANDARD
END:VTIMEZONE
BEGIN:VEVENT
DTSTART;TZID=Europe/Rome:20241115T090000
DTEND;TZID=Europe/Rome:20241115T170000
DTSTAMP:20260423T163648
CREATED:20241028T074431Z
LAST-MODIFIED:20241105T080054Z
UID:18565-1731661200-1731690000@donne4.it
SUMMARY:Innovation Village Award 2024
DESCRIPTION:Il 15 novembre 2024 dalle 9:00 presso l’Auditorium Porta del Parco a Napoli si terrà l’Innovation Village Award 2024. \nInnovation Village Award è un premio annuale che valorizza le esperienze di innovazione in grado di apportare un contributo per il raggiungimento dei 17 Obiettivi di sviluppo sostenibile fissati dall’Agenda 2030 dell’ONU. \n\n\nLa competizione sarà incentrata sulla presentazione dei progetti\, delle persone\, degli obiettivi e dei possibili sviluppi delle proposte in gara\, attraverso format e modalità nuove. Esperti di creazione di impresa\, finanza\, comunicazione e sport\, supporteranno i team durante la preparazione ai match e nella scelta della miglior strategia di presentazione. \nDonne 4.0 mette a disposizione un’attività di mentorship sul tema Empowerment and Leadership per i primi tre progetti valutati positivamente rispetto all’impegno al superamento del divario di genere. \n\n\n\n\n\n\nScopri di più nel sito dell’evento: clicca qui \n  \n 
URL:https://donne4.it/eventi/innovation-village-award-2024/
CATEGORIES:In presenza
ATTACH;FMTTYPE=image/jpeg:https://donne4.it/wp-content/uploads/2024/10/464684042_1480072206268604_2037627041688896655_n.jpg
END:VEVENT
END:VCALENDAR