BEGIN:VCALENDAR
VERSION:2.0
PRODID:-//Donne 4.0 - ECPv6.15.20//NONSGML v1.0//EN
CALSCALE:GREGORIAN
METHOD:PUBLISH
X-ORIGINAL-URL:https://donne4.it
X-WR-CALDESC:Eventi per Donne 4.0
REFRESH-INTERVAL;VALUE=DURATION:PT1H
X-Robots-Tag:noindex
X-PUBLISHED-TTL:PT1H
BEGIN:VTIMEZONE
TZID:Europe/Rome
BEGIN:DAYLIGHT
TZOFFSETFROM:+0100
TZOFFSETTO:+0200
TZNAME:CEST
DTSTART:20220327T010000
END:DAYLIGHT
BEGIN:STANDARD
TZOFFSETFROM:+0200
TZOFFSETTO:+0100
TZNAME:CET
DTSTART:20221030T010000
END:STANDARD
BEGIN:DAYLIGHT
TZOFFSETFROM:+0100
TZOFFSETTO:+0200
TZNAME:CEST
DTSTART:20230326T010000
END:DAYLIGHT
BEGIN:STANDARD
TZOFFSETFROM:+0200
TZOFFSETTO:+0100
TZNAME:CET
DTSTART:20231029T010000
END:STANDARD
BEGIN:DAYLIGHT
TZOFFSETFROM:+0100
TZOFFSETTO:+0200
TZNAME:CEST
DTSTART:20240331T010000
END:DAYLIGHT
BEGIN:STANDARD
TZOFFSETFROM:+0200
TZOFFSETTO:+0100
TZNAME:CET
DTSTART:20241027T010000
END:STANDARD
END:VTIMEZONE
BEGIN:VEVENT
DTSTART;TZID=Europe/Rome:20231221T113000
DTEND;TZID=Europe/Rome:20231221T130000
DTSTAMP:20260422T112504
CREATED:20231217T172845Z
LAST-MODIFIED:20231217T180203Z
UID:15728-1703158200-1703163600@donne4.it
SUMMARY:StartupItalia Open Summit 2023
DESCRIPTION:Lo StartupItalia Open Summit – SIOS23 Winter quest’anno è dedicato al concetto di PEOPLE\, perché l’innovazione è fatta di persone: individui che insieme formano un gruppo\, una comunità e insieme sono in grado di cambiare un processo\, un servizio\, un’industria\, o persino un intero Paese. \nOggi gli algoritmi ottimizzano le performance\, arrivando a coinvolgere aziende\, filiere\, mercati. Ma sono le INTELLIGENZE messe a fattor comune a fare la differenza e a disegnare nuove pagine di futuro. La chiave vincente è fare gioco di squadra. Perché il futuro dell’innovazione passa da quelle intelligenze che si legano a competenze sì verticali\, ma che entrano in relazione in ottica trasversale. Solo così possiamo dare un senso persino a quell’intelligenza artificiale diventata negli ultimi tempi vera e propria ossessione. \nL’evento si svolgerà il 21 Dicembre presso Palazzo Mezzanotte\, Piazza degli Affari 6\, Milano  dalle ore 9:00 alle 17:00 \nNoi Donne 4.0 saremo presenti e interverremo al workshop “Unstoppable Women” dalle ore 11:30 alle 13:00  \ncon le speaker Roberta Russo e Patrizia Palazzi\, ambassadors Donne 4.0\, che descriveranno i fortunati progetti AixGirls e AIxWomen. \nPer maggiori info sull’evento clicca qui \nPer partecipare\, registrati qui \n  \n  \n 
URL:https://donne4.it/eventi/startupitalia-open-summit-2023/
CATEGORIES:In presenza e live streaming
ATTACH;FMTTYPE=image/png:https://donne4.it/wp-content/uploads/2023/12/StartupItalia-Open-Summit-2023.png
END:VEVENT
END:VCALENDAR