BEGIN:VCALENDAR
VERSION:2.0
PRODID:-//Donne 4.0 - ECPv6.15.20//NONSGML v1.0//EN
CALSCALE:GREGORIAN
METHOD:PUBLISH
X-WR-CALNAME:Donne 4.0
X-ORIGINAL-URL:https://donne4.it
X-WR-CALDESC:Eventi per Donne 4.0
REFRESH-INTERVAL;VALUE=DURATION:PT1H
X-Robots-Tag:noindex
X-PUBLISHED-TTL:PT1H
BEGIN:VTIMEZONE
TZID:Europe/Rome
BEGIN:DAYLIGHT
TZOFFSETFROM:+0100
TZOFFSETTO:+0200
TZNAME:CEST
DTSTART:20240331T010000
END:DAYLIGHT
BEGIN:STANDARD
TZOFFSETFROM:+0200
TZOFFSETTO:+0100
TZNAME:CET
DTSTART:20241027T010000
END:STANDARD
BEGIN:DAYLIGHT
TZOFFSETFROM:+0100
TZOFFSETTO:+0200
TZNAME:CEST
DTSTART:20250330T010000
END:DAYLIGHT
BEGIN:STANDARD
TZOFFSETFROM:+0200
TZOFFSETTO:+0100
TZNAME:CET
DTSTART:20251026T010000
END:STANDARD
BEGIN:DAYLIGHT
TZOFFSETFROM:+0100
TZOFFSETTO:+0200
TZNAME:CEST
DTSTART:20260329T010000
END:DAYLIGHT
BEGIN:STANDARD
TZOFFSETFROM:+0200
TZOFFSETTO:+0100
TZNAME:CET
DTSTART:20261025T010000
END:STANDARD
END:VTIMEZONE
BEGIN:VEVENT
DTSTART;TZID=Europe/Rome:20250912T103000
DTEND;TZID=Europe/Rome:20250912T190000
DTSTAMP:20260424T002649
CREATED:20250901T142700Z
LAST-MODIFIED:20251120T212252Z
UID:19822-1757673000-1757703600@donne4.it
SUMMARY:Tech4Fem Future Health
DESCRIPTION:Donne 4.0 sarà community partner dell’evento “Tech4Fem Future Health” dedicato al futuro della salute femminile e all’ecosistema FemTech a cui parteciperanno le nostre ambassador Silvia Pinciroli e Stefania Antonelli. \nUna giornata di confronto e innovazione che coinvolge le realtà FemTech italiane e tutti gli attori strategici del settore: investitori\, aziende farmaceutiche\, istituti bancari\, esperti di intelligenza artificiale\, sanità pubblica\, medicina di genere\, sicurezza digitale\, università\, associazioni e rappresentanti delle istituzioni. \nL’evento Tech4Fem Future Health vedrà coinvolto l’intero ecosistema in attività interattive di confronto e networking\, per continuare a costruire sinergie e opportunità. \nPer partecipare registrati qui
URL:https://donne4.it/eventi/tech4fem-future-health/
CATEGORIES:In presenza
ATTACH;FMTTYPE=image/jpeg:https://donne4.it/wp-content/uploads/2025/09/Donne-4.0-Community-Partner.jpg
END:VEVENT
END:VCALENDAR